BEGIN:VCALENDAR
VERSION:2.0
PRODID:DPCALENDAR
CALSCALE:GREGORIAN
BEGIN:VTIMEZONE
TZID:Europe/Berlin
X-MICROSOFT-CDO-TZID:4
BEGIN:STANDARD
DTSTART:20251026T010000
TZOFFSETFROM:+0200
TZOFFSETTO:+0100
TZNAME:CET
END:STANDARD
BEGIN:STANDARD
DTSTART:20261025T010000
TZOFFSETFROM:+0200
TZOFFSETTO:+0100
TZNAME:CET
END:STANDARD
BEGIN:DAYLIGHT
DTSTART:20260329T010000
TZOFFSETFROM:+0100
TZOFFSETTO:+0200
TZNAME:CEST
END:DAYLIGHT
END:VTIMEZONE
X-WR-TIMEZONE:Europe/Berlin
BEGIN:VEVENT
DTSTART;TZID=Europe/Berlin:20190310T100000
DTEND;TZID=Europe/Berlin:20190310T113000
UID:F47B1F0C-BECF-4208-9F68-62F04BF5288D
SUMMARY:Nordic Walking
CREATED:20190303T134105Z
DTSTAMP:20190303T134105Z
DESCRIPTION:Die Nordic-Walking-Gruppe trifft sich im Regelfall 10:00Uhr an der Milchtankstelle und ist dann rund 90min lang unterwegs.Regelfall bedeutet: Kein Dauerregen, kein Permafrost und keine dringenden anderen Termine.Bitte kontaktiert uns, wenn Ihr mal mitmachen wollt.
X-ALT-DESC;FMTTYPE=text/html:<p>Die Nordic-Walking-Gruppe trifft sich <span style="text-decoration: underline;">im Regelfall</span> 10:00Uhr an der Milchtankstelle und ist dann rund 90min lang unterwegs.<br />Regelfall bedeutet: Kein Dauerregen, kein Permafrost und keine dringenden anderen Termine.<br />Bitte kontaktiert uns, wenn Ihr mal mitmachen wollt.</p>
LOCATION:
GEO:50.89340000;12.17050000
LAST-MODIFIED:20190304T073744Z
SEQUENCE:64599
X-ACCESS:1
X-HITS:16
X-URL:https://korbsen.de/index.php?option=com_dpcalendar&view=event&id=39&calid=13
X-COLOR:cc333d
X-SHOW-END-TIME:1
END:VEVENT
BEGIN:VEVENT
DTSTART;TZID=Europe/Berlin:20190317T090000
DTEND;TZID=Europe/Berlin:20190317T093000
UID:D7094A63-F0DA-4099-A065-BAD155D2B676
SUMMARY:"Unser Dorf hat Wochenende" - MDR Doku
CREATED:20190303T131611Z
DTSTAMP:20190303T131611Z
DESCRIPTION:Die Dreharbeiten dazu fanden am 02./03.03.2019 statt.
X-ALT-DESC;FMTTYPE=text/html:<p>Die Dreharbeiten dazu fanden am 02./03.03.2019 statt.</p>
LAST-MODIFIED:20190303T133601Z
SEQUENCE:1190
X-ACCESS:1
X-HITS:17
X-URL:https://korbsen.de/index.php?option=com_dpcalendar&view=event&id=37&calid=13
X-COLOR:cc333d
X-SHOW-END-TIME:1
END:VEVENT
BEGIN:VEVENT
DTSTART;TZID=Europe/Berlin:20190323T124500
DTEND;TZID=Europe/Berlin:20190323T131500
UID:CBC111B5-F470-4E83-A2C8-8C14E278FA1E
SUMMARY:"Unser Dorf hat Wochenende" - MDR Doku
CREATED:20190303T131819Z
DTSTAMP:20190303T131819Z
DESCRIPTION:Die Dreharbeiten dazu fanden am 02./03.03.2019 statt.Wiederholung vom 17.03.2019.
X-ALT-DESC;FMTTYPE=text/html:<p>Die Dreharbeiten dazu fanden am 02./03.03.2019 statt.<br />Wiederholung vom 17.03.2019.</p>
LAST-MODIFIED:20190303T133610Z
SEQUENCE:1071
X-ACCESS:1
X-HITS:13
X-URL:https://korbsen.de/index.php?option=com_dpcalendar&view=event&id=38&calid=13
X-COLOR:cc333d
X-SHOW-END-TIME:1
END:VEVENT
BEGIN:VEVENT
DTSTART;TZID=Europe/Berlin:20190414T093000
DTEND;TZID=Europe/Berlin:20190414T153000
UID:777E7E98-B2B5-4021-BA55-7F919F011207
SUMMARY:Volleyball Kleinfeldturnier
CREATED:20190305T120759Z
DTSTAMP:20190305T120759Z
DESCRIPTION:- Turnhalle Rückersdorf- 2 gegen 2- siehe auch Einladung in den News...
X-ALT-DESC;FMTTYPE=text/html:<p>- Turnhalle Rückersdorf<br />- 2 gegen 2<br />- siehe auch Einladung in den News...</p>
LOCATION:Am Fuchsloch 34\, 07580 Rückersdorf\, Thüringen
GEO:50.82114715;12.21692355
LAST-MODIFIED:20190305T121303Z
SEQUENCE:304
X-ACCESS:1
X-HITS:12
X-URL:https://korbsen.de/index.php?option=com_dpcalendar&view=event&id=41&calid=13
X-COLOR:cc333d
X-SHOW-END-TIME:1
END:VEVENT
BEGIN:VEVENT
DTSTART;TZID=Europe/Berlin:20190623T093000
DTEND;TZID=Europe/Berlin:20190623T120000
UID:1708D284-84B5-4F1B-854D-A37A91073B7C
SUMMARY:Sensenmeisterschaft
CREATED:20190505T142005Z
DTSTAMP:20190505T142005Z
DESCRIPTION:Einladungen und Plakate beachten.\NKeine Alters- und Gewichtsbeschränkung.\NKeine Motorgeräte erlaubt. Nur Handsensen.\NGetränke, Roster und gute Laune sind dabei.
X-ALT-DESC;FMTTYPE=text/html:<p>Einladungen und Plakate beachten.</p><p>Keine Alters- und Gewichtsbeschränkung.</p><p>Keine Motorgeräte erlaubt. Nur Handsensen.</p><p>Getränke, Roster und gute Laune sind dabei.</p>
LOCATION:Korbußen
GEO:50.89250100;12.18781900
LAST-MODIFIED:20190505T142640Z
SEQUENCE:395
X-ACCESS:1
X-HITS:253
X-URL:https://korbsen.de/index.php?option=com_dpcalendar&view=event&id=49&calid=13
X-COLOR:cc333d
X-SHOW-END-TIME:1
END:VEVENT
BEGIN:VEVENT
DTSTART;TZID=Europe/Berlin:20191206T164500
DTEND;TZID=Europe/Berlin:20191206T230000
UID:D3EA446E-2069-4654-8D8F-13DE68ECE9D8
SUMMARY:Weihnachtsfeier des SV94
CREATED:20190905T143511Z
DTSTAMP:20190905T143511Z
DESCRIPTION:Wir treffen uns vor Ort und beginnen mit einer kleinen Wanderung - auch für die Kinder sehr gut geeignet! Bitte beachtet die Email vom September.
X-ALT-DESC;FMTTYPE=text/html:<p>Wir treffen uns vor Ort und beginnen mit einer kleinen Wanderung - auch für die Kinder sehr gut geeignet! Bitte beachtet die Email vom September.</p>
X-ACCESS:1
X-HITS:11
X-URL:https://korbsen.de/index.php?option=com_dpcalendar&view=event&id=67&calid=13
X-COLOR:cc333d
X-SHOW-END-TIME:1
END:VEVENT
BEGIN:VEVENT
DTSTART;TZID=Europe/Berlin:20220624T060000
DTEND;TZID=Europe/Berlin:20220626T200000
UID:2BA89700-883A-4ABE-86B5-E3330C278A62
SUMMARY:24. Reiterfest des Reit- und Fahrverein Korbußen eV
CREATED:20220610T083240Z
DTSTAMP:20220610T083240Z
DESCRIPTION:
X-ALT-DESC;FMTTYPE=text/html:
LAST-MODIFIED:20220610T083527Z
SEQUENCE:167
X-ACCESS:1
X-HITS:23
X-URL:https://korbsen.de/index.php?option=com_dpcalendar&view=event&id=129&calid=13
X-COLOR:cc333d
X-SHOW-END-TIME:1
END:VEVENT
BEGIN:VEVENT
DTSTART;TZID=Europe/Berlin:20220624T060000
DTEND;TZID=Europe/Berlin:20220626T020000
UID:643C2C8F-180A-4591-BC39-043F80D4DD4F
SUMMARY:24. Reiterfest des Reit- und Fahrverein Korbußen eV
CREATED:20220610T083240Z
DTSTAMP:20220610T083240Z
DESCRIPTION:
X-ALT-DESC;FMTTYPE=text/html:
X-ACCESS:1
X-HITS:45
X-URL:https://korbsen.de/index.php?option=com_dpcalendar&view=event&id=130&calid=13
X-COLOR:cc333d
X-SHOW-END-TIME:1
END:VEVENT
BEGIN:VEVENT
DTSTART;TZID=Europe/Berlin:20220624T060000
DTEND;TZID=Europe/Berlin:20220626T020000
UID:73CFCC2D-5647-4CDA-B6EB-00F5B79B6FE4
SUMMARY:24. Reiterfest des Reit- und Fahrverein Korbußen eV
CREATED:20220610T083241Z
DTSTAMP:20220610T083241Z
DESCRIPTION:
X-ALT-DESC;FMTTYPE=text/html:
X-ACCESS:1
X-HITS:13
X-URL:https://korbsen.de/index.php?option=com_dpcalendar&view=event&id=131&calid=13
X-COLOR:cc333d
X-SHOW-END-TIME:1
END:VEVENT
BEGIN:VEVENT
DTSTART;TZID=Europe/Berlin:20220714T090000
DTEND;TZID=Europe/Berlin:20220714T130000
UID:BFF8EBBC-C9BE-436F-8011-FAA3C204209F
SUMMARY:GS Brahmenau Kl.2a
CREATED:20220510T183431Z
DTSTAMP:20220510T183431Z
DESCRIPTION:
X-ALT-DESC;FMTTYPE=text/html:
LAST-MODIFIED:20220517T143442Z
SEQUENCE:590411
X-ACCESS:1
X-HITS:19
X-URL:https://korbsen.de/index.php?option=com_dpcalendar&view=event&id=121&calid=13
X-COLOR:cc333d
X-SHOW-END-TIME:1
END:VEVENT
BEGIN:VEVENT
DTSTART;TZID=Europe/Berlin:20220724T090000
DTEND;TZID=Europe/Berlin:20220724T120000
UID:8FCFC232-585D-4F62-93F3-5BC928663C4F
SUMMARY:Kogert
CREATED:20220210T160015Z
DTSTAMP:20220210T160015Z
DESCRIPTION:
X-ALT-DESC;FMTTYPE=text/html:
X-ACCESS:1
X-HITS:18
X-URL:https://korbsen.de/index.php?option=com_dpcalendar&view=event&id=112&calid=13
X-COLOR:cc333d
X-SHOW-END-TIME:1
END:VEVENT
BEGIN:VEVENT
DTSTART;TZID=Europe/Berlin:20221118T190000
DTEND;TZID=Europe/Berlin:20221118T220000
UID:C858425A-7ED4-4F37-B508-D8F86CB3B1C8
SUMMARY:Weinprobe
CREATED:20221024T085951Z
DTSTAMP:20221024T085951Z
DESCRIPTION:Am 18.11.2022 sind die Mitglieder gern zu einer Weinprobe in Reichharts Hof eingeladen.\NAufgrund der begrenzten Platzanzahl ist eine Anmeldung erforderlich.Kontaktiert hierzu Matthias unter 01704588162.\NWir freuen uns auf Euch!
X-ALT-DESC;FMTTYPE=text/html:<p>Am 18.11.2022 sind die Mitglieder gern zu einer Weinprobe in Reichharts Hof eingeladen.</p><p>Aufgrund der begrenzten Platzanzahl ist eine Anmeldung erforderlich.<br />Kontaktiert hierzu Matthias unter <strong>01704588162</strong>.</p><p>Wir freuen uns auf Euch!</p>
X-ACCESS:1
X-HITS:16
X-URL:https://korbsen.de/index.php?option=com_dpcalendar&view=event&id=143&calid=13
X-COLOR:cc333d
X-SHOW-END-TIME:0
END:VEVENT
BEGIN:VEVENT
DTSTART;VALUE=DATE:20221217
DTEND;VALUE=DATE:20221218
UID:7C9A7332-9E55-44CF-BF9C-DC472E1CEF6C
SUMMARY:Advent in den Weinbergen
CREATED:20221024T090713Z
DTSTAMP:20221024T090713Z
DESCRIPTION:Am 17.12.2022 geht es auf in Richtung Naumburger und Roßbacher Weinberge zur Glühweinwanderung.\NDer Bus fährt 09:30 Uhr ab Korbußen (Ort) und bringt Euch durchgeglüht auch wieder zurück.\NAchtung: Begrenzte Platzanzahl.\NAnmeldungen bitte an Irena: 0173-6768376  (Tel, WhatsApp, SMS)\NViele Grüße
X-ALT-DESC;FMTTYPE=text/html:<p>Am 17.12.2022 geht es auf in Richtung Naumburger und Roßbacher Weinberge zur Glühweinwanderung.</p><p>Der Bus fährt 09:30 Uhr ab Korbußen (Ort) und bringt Euch durchgeglüht auch wieder zurück.</p><p>Achtung: Begrenzte Platzanzahl.</p><p>Anmeldungen bitte an Irena: 0173-6768376&nbsp; (Tel, WhatsApp, SMS)</p><p>Viele Grüße</p>
LAST-MODIFIED:20221024T090825Z
SEQUENCE:72
X-ACCESS:1
X-HITS:15
X-URL:https://korbsen.de/index.php?option=com_dpcalendar&view=event&id=144&calid=13
X-COLOR:cc333d
X-SHOW-END-TIME:1
END:VEVENT
BEGIN:VEVENT
DTSTART;VALUE=DATE:20230430
DTEND;VALUE=DATE:20230501
UID:4A20DCAD-93BD-413D-9642-F68B0A970356
SUMMARY:RFV Korbußen eV - Vereinsturnier
CREATED:20221110T144321Z
DTSTAMP:20221110T144321Z
DESCRIPTION:
X-ALT-DESC;FMTTYPE=text/html:
X-ACCESS:1
X-HITS:1
X-URL:www.reitverein-korbussen.de
X-COLOR:cc333d
X-SHOW-END-TIME:0
END:VEVENT
END:VCALENDAR